BEGIN:VCALENDAR
VERSION:2.0
PRODID:-//Plone.org//NONSGML plone.app.event//EN
X-WR-TIMEZONE:Europe/Madrid
BEGIN:VEVENT
SUMMARY:Taller "Què és (i què no és) la sostenibilitat?"
DTSTART;TZID=Europe/Madrid;VALUE=DATE-TIME:20251021T180000
DTEND;TZID=Europe/Madrid;VALUE=DATE-TIME:20251021T190000
DTSTAMP;VALUE=DATE-TIME:20260425T152856Z
UID:3f42b84cc918c51347fb1ac2f7a0dcc4
CREATED;VALUE=DATE-TIME:20251021T000000Z
CATEGORIES:Cursos
LOCATION:Edifici Can Roure 2ª planta (Carrer Sant Antoni 21-27)
ORGANIZER:Premià Energia
COMMENT:Col·labora: Ajuntament de Premià de Mar
Preu: Gratuït
Durada: 1h 30'
DESCRIPTION:Taller-debat sobre transició ecològica
URL:https://premiademar.cat/document.php?id=32577
END:VEVENT
END:VCALENDAR