BEGIN:VCALENDAR
VERSION:2.0
PRODID:-//Plone.org//NONSGML plone.app.event//EN
X-WR-TIMEZONE:Europe/Madrid
BEGIN:VEVENT
SUMMARY:Xerrada sobre l'urbanisme a Premià de Mar (passat, present i futur) i els seus reptes
DTSTART;TZID=Europe/Madrid;VALUE=DATE-TIME:20251003T180000
DTEND;TZID=Europe/Madrid;VALUE=DATE-TIME:20251003T190000
DTSTAMP;VALUE=DATE-TIME:20260426T002233Z
UID:91d19f2897ae5c54944dd14ff7ecdcaa
CREATED;VALUE=DATE-TIME:20251003T000000Z
CATEGORIES:Conferència,Activitats
LOCATION:Centre Cívic - Esperança, 19
ORGANIZER:No més pisos Premià
COMMENT:Preu: Gratuït
DESCRIPTION:"Evolució Urbana a Premià de Mar, Elements d'urbanització Enginyeria tècnica d'obres públiques, especialitat en transports i serveis urbans"
URL:https://premiademar.cat/document.php?id=32586
END:VEVENT
END:VCALENDAR