BEGIN:VCALENDAR
VERSION:2.0
PRODID:-//Plone.org//NONSGML plone.app.event//EN
X-WR-TIMEZONE:Europe/Madrid
BEGIN:VEVENT
SUMMARY:Fira Comercial de Tardor
DTSTART;TZID=Europe/Madrid;VALUE=DATE-TIME:20251005T000000
DTEND;TZID=Europe/Madrid;VALUE=DATE-TIME:20251005T010000
DTSTAMP;VALUE=DATE-TIME:20260425T223619Z
UID:13f2eff05ee44f63b943cfa6d8888acf
CREATED;VALUE=DATE-TIME:20251005T000000Z
CATEGORIES:Mostra,Esports,Activitats familiars,Música,Dansa,Activitats
LOCATION:Plaça Països Catalans - Plaça Països Catalans
ORGANIZER:Comerç Premià
COMMENT:Col·labora: Ajuntament de Premià de Mar
Preu: Gratuït
URL:https://premiademar.cat/document.php?id=32624
END:VEVENT
END:VCALENDAR