BEGIN:VCALENDAR
VERSION:2.0
PRODID:-//Plone.org//NONSGML plone.app.event//EN
X-WR-TIMEZONE:Europe/Madrid
BEGIN:VEVENT
SUMMARY:Obra de Teatre "El Petit Príncep" de la gent gran
DTSTART;TZID=Europe/Madrid;VALUE=DATE-TIME:20251105T180000
DTEND;TZID=Europe/Madrid;VALUE=DATE-TIME:20251105T190000
DTSTAMP;VALUE=DATE-TIME:20260424T222936Z
UID:429ec18bc155a531a829a0cdc8ea332e
CREATED;VALUE=DATE-TIME:20251105T000000Z
CATEGORIES:Cultura popular,Teatre i altres espectacles,Activitats
LOCATION:Espai l'Amistat - Carrer de Sant Antoni, 60
ORGANIZER:Ajuntament de Premià de Mar
COMMENT:Col·labora: La Caixa dels Trons
Preu: Gratuït
DESCRIPTION:Festes de tardor de la Gent Gran
URL:https://premiademar.cat/document.php?id=32706
END:VEVENT
END:VCALENDAR