BEGIN:VCALENDAR
VERSION:2.0
PRODID:-//Plone.org//NONSGML plone.app.event//EN
X-WR-TIMEZONE:Europe/Madrid
BEGIN:VEVENT
SUMMARY:Festa de la Gent Gran
DTSTART;TZID=Europe/Madrid;VALUE=DATE-TIME:20251109T173000
DTEND;TZID=Europe/Madrid;VALUE=DATE-TIME:20251109T183000
DTSTAMP;VALUE=DATE-TIME:20260424T175945Z
UID:b1d9f27c44144dfd70afbba1796fcfaa
CREATED;VALUE=DATE-TIME:20251109T000000Z
CATEGORIES:Cultura popular,Música,Activitats
LOCATION:Pavelló d'Esports - Camí del Mig, 62 08330 Premià de Mar
ORGANIZER:Ajuntament de Premià de Mar
COMMENT:Col·labora: Conex, Casal d'Avis Can Manent, Casal de Lourdes i Consell Sènior.
Preu: 6 euros
DESCRIPTION:Festes de tardor de la Gent Gran
URL:https://premiademar.cat/document.php?id=32708
END:VEVENT
END:VCALENDAR