BEGIN:VCALENDAR
VERSION:2.0
PRODID:-//Plone.org//NONSGML plone.app.event//EN
X-WR-TIMEZONE:Europe/Madrid
BEGIN:VEVENT
SUMMARY:Activitats esportives al CEM (Centre Esportiu Municipal)
DTSTART;TZID=Europe/Madrid;VALUE=DATE-TIME:20251114T100000
DTEND;TZID=Europe/Madrid;VALUE=DATE-TIME:20251114T110000
DTSTAMP;VALUE=DATE-TIME:20260424T175116Z
UID:fa106d7309a3766c27e40b762e0da831
CREATED;VALUE=DATE-TIME:20251114T000000Z
CATEGORIES:Esports,Activitats
LOCATION:Centre Esportiu Municipal Premià (CEMP) - Carrer Francesc Mas i Abril, 13 y 16
ORGANIZER:CEM
COMMENT:Col·labora: Ajuntament de Premià de Mar
Preu: Gratuït
DESCRIPTION:Festes de tardor de la Gent Gran
URL:https://premiademar.cat/document.php?id=32709
END:VEVENT
END:VCALENDAR