BEGIN:VCALENDAR
VERSION:2.0
PRODID:-//Plone.org//NONSGML plone.app.event//EN
X-WR-TIMEZONE:Europe/Madrid
BEGIN:VEVENT
SUMMARY:«Filantrocapitalisme. Caritat o negoci?»
DTSTART;TZID=Europe/Madrid;VALUE=DATE-TIME:20251104T180000
DTEND;TZID=Europe/Madrid;VALUE=DATE-TIME:20251104T190000
DTSTAMP;VALUE=DATE-TIME:20260425T014815Z
UID:012e9083e9df1e53d279c6ec15a9fc30
CREATED;VALUE=DATE-TIME:20251104T000000Z
CATEGORIES:Lletres i diàlegs
LOCATION:Biblioteca Martí Rosselló i Lloveras - Carretera de Vilassar de Dalt, 100
COMMENT:Col·labora: Lluís Soler i Emília Olivé
Preu: Gratuït
DESCRIPTION:Àgora xerrada
URL:https://premiademar.cat/document.php?id=32737
END:VEVENT
END:VCALENDAR