BEGIN:VCALENDAR
VERSION:2.0
PRODID:-//Plone.org//NONSGML plone.app.event//EN
X-WR-TIMEZONE:Europe/Madrid
BEGIN:VEVENT
SUMMARY:Gala dels Premis "A" de l'Esport Premianenc 2025
DTSTART;TZID=Europe/Madrid;VALUE=DATE-TIME:20251115T200000
DTEND;TZID=Europe/Madrid;VALUE=DATE-TIME:20251115T210000
DTSTAMP;VALUE=DATE-TIME:20260424T163701Z
UID:169d0a0607f7619002f1fa3872bf0c6c
CREATED;VALUE=DATE-TIME:20251115T000000Z
CATEGORIES:Esports,Esport femení,Activitats familiars,Activitats
LOCATION:Pavelló d'Esports - Camí del Mig, 62 08330 Premià de Mar
ORGANIZER:Ajuntament de Premià de Mar
COMMENT:Col·labora: EsportCat, Diputació de Barcelona i PremiàMedia.
Preu: Gratuït
DESCRIPTION:Som-hi! Caps de setmana per descobrir
URL:https://premiademar.cat/document.php?id=32744
END:VEVENT
END:VCALENDAR