BEGIN:VCALENDAR
VERSION:2.0
PRODID:-//Plone.org//NONSGML plone.app.event//EN
X-WR-TIMEZONE:Europe/Madrid
BEGIN:VEVENT
SUMMARY:Entrada gratuïta al Museu Romà per ser primer diumenge de mes
DTSTART;TZID=Europe/Madrid;VALUE=DATE-TIME:20251207T100000
DTEND;TZID=Europe/Madrid;VALUE=DATE-TIME:20251207T110000
DTSTAMP;VALUE=DATE-TIME:20260423T221935Z
UID:1808b5c3cd61ed5f93182dcee8ab8b31
CREATED;VALUE=DATE-TIME:20251207T000000Z
CATEGORIES:Museus i exposicions
LOCATION:Museu Romà - Carrer de la Vil·la Romana, s/n
ORGANIZER:Museu Romà
COMMENT:Col·labora: Museu de l'Estampació
Preu: Accés lliure
Durada: De 10 a 14h, i de 16 a 18.30h
DESCRIPTION:Som-hi! Caps de setmana per descobrir
URL:https://premiademar.cat/document.php?id=32829
END:VEVENT
END:VCALENDAR