BEGIN:VCALENDAR
VERSION:2.0
PRODID:-//Plone.org//NONSGML plone.app.event//EN
X-WR-TIMEZONE:Europe/Madrid
BEGIN:VEVENT
SUMMARY:Ballada de Sardanes
DTSTART;TZID=Europe/Madrid;VALUE=DATE-TIME:20251018T183000
DTEND;TZID=Europe/Madrid;VALUE=DATE-TIME:20251018T193000
DTSTAMP;VALUE=DATE-TIME:20260425T150705Z
UID:c6b9f8a1bc68f64f3d9c263da81b0de8
CREATED;VALUE=DATE-TIME:20251018T000000Z
CATEGORIES:Cultura popular,Música
LOCATION:Plaça de l'Ajuntament - Plaça Ajuntament, 1
ORGANIZER:Amics de la Sardana de Premià de Mar
COMMENT:Col·labora: Ajuntament de Premià de Mar
Preu: Gratuit
Durada: Dues hores aproximadament
URL:https://premiademar.cat/document.php?id=32832
END:VEVENT
END:VCALENDAR