BEGIN:VCALENDAR
VERSION:2.0
PRODID:-//Plone.org//NONSGML plone.app.event//EN
X-WR-TIMEZONE:Europe/Madrid
BEGIN:VEVENT
SUMMARY:Taller familiar: Celebrem les Saturnals!
DTSTART;TZID=Europe/Madrid;VALUE=DATE-TIME:20251214T120000
DTEND;TZID=Europe/Madrid;VALUE=DATE-TIME:20251214T130000
DTSTAMP;VALUE=DATE-TIME:20260424T155612Z
UID:72a13e87c14174095d6354f1b768c2b9
CREATED;VALUE=DATE-TIME:20251214T000000Z
CATEGORIES:Activitats familiars
LOCATION:Museu Romà (Espai Ferrerons) - Carrer de la Vil·la Romana, s/n
ORGANIZER:Museu Romà
COMMENT:Col·labora: Museu de l'Estampació
Preu: 4&euro;/persona
Durada: 60'
DESCRIPTION:Som-hi! Caps de setmana per descobrir
URL:https://premiademar.cat/document.php?id=32834
END:VEVENT
END:VCALENDAR