BEGIN:VCALENDAR
VERSION:2.0
PRODID:-//Plone.org//NONSGML plone.app.event//EN
X-WR-TIMEZONE:Europe/Madrid
BEGIN:VEVENT
SUMMARY:La Cursa Dani Maresme
DTSTART;TZID=Europe/Madrid;VALUE=DATE-TIME:20251116T090000
DTEND;TZID=Europe/Madrid;VALUE=DATE-TIME:20251116T100000
DTSTAMP;VALUE=DATE-TIME:20260424T133610Z
UID:dcd568f142330b71559dae89c70a50bb
CREATED;VALUE=DATE-TIME:20251116T000000Z
CATEGORIES:Esports,Esport femení,Activitats familiars,Activitats
LOCATION:Port de Premià de Mar
ORGANIZER:Xevents Sports
COMMENT:Col·labora: Ajuntament de Premià de Mar
Ajuntament del Masnou
Ajuntament de Vilassar de Mar
Ajuntament de Cabrera de Mar
Marina Port Premià
Preu: Inscripció prèvia
DESCRIPTION:Som-hi! La mitja martó del maresme
URL:https://premiademar.cat/document.php?id=32835
END:VEVENT
END:VCALENDAR