BEGIN:VCALENDAR
VERSION:2.0
PRODID:-//Plone.org//NONSGML plone.app.event//EN
X-WR-TIMEZONE:Europe/Madrid
BEGIN:VEVENT
SUMMARY:Descobrim els ODS!
DTSTART;TZID=Europe/Madrid;VALUE=DATE-TIME:20251122T110000
DTEND;TZID=Europe/Madrid;VALUE=DATE-TIME:20251122T120000
DTSTAMP;VALUE=DATE-TIME:20260424T094526Z
UID:e05fea004f142eb09720952df694b781
CREATED;VALUE=DATE-TIME:20251122T000000Z
CATEGORIES:Activitats familiars
LOCATION:Torrent Santa Anna (entre Tarragona i Lleida)
DESCRIPTION:Som-hi! Caps de setmana per descobrir
URL:https://premiademar.cat/document.php?id=32951
END:VEVENT
END:VCALENDAR