BEGIN:VCALENDAR
VERSION:2.0
PRODID:-//Plone.org//NONSGML plone.app.event//EN
X-WR-TIMEZONE:Europe/Madrid
BEGIN:VEVENT
SUMMARY:Cita Prèvia Renovació DNI
DTSTART;TZID=Europe/Madrid;VALUE=DATE-TIME:20251126T100000
DTEND;TZID=Europe/Madrid;VALUE=DATE-TIME:20251126T110000
DTSTAMP;VALUE=DATE-TIME:20260421T210112Z
UID:4865c78f35a064801693048a5ebc58b8
CREATED;VALUE=DATE-TIME:20251126T000000Z
CATEGORIES:Activitats
LOCATION:Centre Cívic - Esperança, 19
COMMENT:Durada: de 10 h fins que s'acabin les places
DESCRIPTION:Es donarà prioritat a la gent gran o a les persones amb dificultat de mobilitat. La renovació serà el dia 1 de desembre de 9 a 13 h al Centre Cívic
URL:https://premiademar.cat/document.php?id=32969
END:VEVENT
END:VCALENDAR