BEGIN:VCALENDAR
VERSION:2.0
PRODID:-//Plone.org//NONSGML plone.app.event//EN
X-WR-TIMEZONE:Europe/Madrid
BEGIN:VEVENT
SUMMARY:Acte de presentació de la campanya "Fils d'una història col·lectiva"
DTSTART;TZID=Europe/Madrid;VALUE=DATE-TIME:20251109T110000
DTEND;TZID=Europe/Madrid;VALUE=DATE-TIME:20251109T120000
DTSTAMP;VALUE=DATE-TIME:20260424T230050Z
UID:0bc437cbd567579b9d7b127715cd8636
CREATED;VALUE=DATE-TIME:20251109T000000Z
CATEGORIES:Activitats
LOCATION:Can Sanpere - Carrer de Sant Cristòfol, 41-43.
ORGANIZER:Ajuntament i Associació Can Sanpere
DESCRIPTION:Participa, imagina i ajuda'ns a teixir el futur col·lectiu de Can Sanpere.
URL:https://premiademar.cat/document.php?id=33007
END:VEVENT
END:VCALENDAR