BEGIN:VCALENDAR
VERSION:2.0
PRODID:-//Plone.org//NONSGML plone.app.event//EN
X-WR-TIMEZONE:Europe/Madrid
BEGIN:VEVENT
SUMMARY:Obres de microteatre: Les nenes maques, Pels Pèls i Sheakespeare, songs i +
DTSTART;TZID=Europe/Madrid;VALUE=DATE-TIME:20251113T200000
DTEND;TZID=Europe/Madrid;VALUE=DATE-TIME:20251113T210000
DTSTAMP;VALUE=DATE-TIME:20260424T155336Z
UID:08dc07c7a81a299c55dd4d9b6d006bb6
CREATED;VALUE=DATE-TIME:20251113T000000Z
CATEGORIES:Mostra,Activitats familiars,Teatre i altres espectacles,Activitats
LOCATION:Espai l'Amistat - Carrer de Sant Antoni, 60
ORGANIZER:Ajuntament de Premià de Mar i L'Amistat
COMMENT:Col·labora: Patronat Teatre, Kampikipugui, Talla de teatre Inalbis i Karismàtiks
Preu: 3,00 
Durada: Sessions 20:00h. Diumenge a les 12:00h.
DESCRIPTION:Mostra de Teatre Amateur
URL:https://premiademar.cat/document.php?id=33351
END:VEVENT
END:VCALENDAR