BEGIN:VCALENDAR
VERSION:2.0
PRODID:-//Plone.org//NONSGML plone.app.event//EN
X-WR-TIMEZONE:Europe/Madrid
BEGIN:VEVENT
SUMMARY:Obres de microteatre: "Ja t'ho deia jo" i "Dia de pluja"
DTSTART;TZID=Europe/Madrid;VALUE=DATE-TIME:20251114T200000
DTEND;TZID=Europe/Madrid;VALUE=DATE-TIME:20251114T210000
DTSTAMP;VALUE=DATE-TIME:20260424T175002Z
UID:c246a74f273342bf02322582caa853bc
CREATED;VALUE=DATE-TIME:20251114T000000Z
CATEGORIES:Mostra,Activitats familiars,Teatre i altres espectacles,Activitats
LOCATION:Espai l'Amistat - Carrer de Sant Antoni, 60
ORGANIZER:Ajuntament de Premià de Mar i L'Amistat
COMMENT:Col·labora: Patronat Teatre, Kampikipugui, Talla de teatre Inalbis i Karismàtiks
Preu: 3,00 
Durada: Sessions 20h. Diumenge a les 12h.
DESCRIPTION:Mostra de Teatre Amateur
URL:https://premiademar.cat/document.php?id=33352
END:VEVENT
END:VCALENDAR