BEGIN:VCALENDAR
VERSION:2.0
PRODID:-//Plone.org//NONSGML plone.app.event//EN
X-WR-TIMEZONE:Europe/Madrid
BEGIN:VEVENT
SUMMARY:Obres de microteatre: "L'essencial es invisible als ulls" i "Pastorets"
DTSTART;TZID=Europe/Madrid;VALUE=DATE-TIME:20251116T000000
DTEND;TZID=Europe/Madrid;VALUE=DATE-TIME:20251116T010000
DTSTAMP;VALUE=DATE-TIME:20260424T133724Z
UID:8ad4328e0c3be5cffecb3a9f44acaeff
CREATED;VALUE=DATE-TIME:20251116T000000Z
CATEGORIES:Mostra,Activitats familiars,Teatre i altres espectacles,Activitats
LOCATION:Espai l'Amistat
ORGANIZER:Ajuntament de Premià de Mar i L'Amistat
COMMENT:Col·labora: Patronat Teatre, Kampikipugui, Talla de teatre Inalbis i Karismàtiks
Preu: 3,00 &euro;
Durada: Sessions 20h. Diumenge a les 12h.
DESCRIPTION:Mostra de Teatre Amateur
URL:https://premiademar.cat/document.php?id=33353
END:VEVENT
END:VCALENDAR