BEGIN:VCALENDAR
VERSION:2.0
PRODID:-//Plone.org//NONSGML plone.app.event//EN
X-WR-TIMEZONE:Europe/Madrid
BEGIN:VEVENT
SUMMARY:Correfoc Bèsties
DTSTART;TZID=Europe/Madrid;VALUE=DATE-TIME:20251108T190000
DTEND;TZID=Europe/Madrid;VALUE=DATE-TIME:20251108T200000
DTSTAMP;VALUE=DATE-TIME:20260424T192744Z
UID:3a8ecf958fa16d38f7a7e8702fc118b2
CREATED;VALUE=DATE-TIME:20251108T000000Z
CATEGORIES:Mostra,Activitats familiars,Cultura popular,Activitats
LOCATION:Plaça Nova - Plaça Nova
ORGANIZER:Ajuntament de Premià de Mar
COMMENT:Col·labora: Burlus i De Bòlit
Preu: Gratuït
DESCRIPTION:Ceptrotada: Mostra de Ceptrots i Bèsties de Foc 2025
URL:https://premiademar.cat/document.php?id=33407
END:VEVENT
END:VCALENDAR