BEGIN:VCALENDAR
VERSION:2.0
PRODID:-//Plone.org//NONSGML plone.app.event//EN
X-WR-TIMEZONE:Europe/Madrid
BEGIN:VEVENT
SUMMARY:Ceptrotada 2025
DTSTART;TZID=Europe/Madrid;VALUE=DATE-TIME:20251108T190000
DTEND;TZID=Europe/Madrid;VALUE=DATE-TIME:20251108T200000
DTSTAMP;VALUE=DATE-TIME:20260424T211622Z
UID:e59ee350440aa7320c1af46e93f49949
CREATED;VALUE=DATE-TIME:20251108T000000Z
CATEGORIES:Mostra,Activitats familiars,Cultura popular,Activitats
LOCATION:Plaça Països Catalans - Plaça Països Catalans
ORGANIZER:Ajuntament de Premià de Mar
COMMENT:Col·labora: Burlus i De Bòlit
Preu: Gratuït
DESCRIPTION:Ceptrotada: Mostra de Ceptrots i Bèsties de Foc 2025
URL:https://premiademar.cat/document.php?id=33408
END:VEVENT
END:VCALENDAR