BEGIN:VCALENDAR
VERSION:2.0
PRODID:-//Plone.org//NONSGML plone.app.event//EN
X-WR-TIMEZONE:Europe/Madrid
BEGIN:VEVENT
SUMMARY:Sopar popular a càrrec d'Alerta Solidària i festa amb el DJ Shelly
DTSTART;TZID=Europe/Madrid;VALUE=DATE-TIME:20251108T220000
DTEND;TZID=Europe/Madrid;VALUE=DATE-TIME:20251108T230000
DTSTAMP;VALUE=DATE-TIME:20260425T151124Z
UID:3447d92e2f5ef4248bbef6d1256e3b53
CREATED;VALUE=DATE-TIME:20251108T000000Z
CATEGORIES:Mostra,Activitats familiars,Cultura popular,Activitats
LOCATION:Plaça Nova - Plaça Nova
ORGANIZER:Ajuntament de Premià de Mar
COMMENT:Col·labora: Burlus i De Bòlit
Preu: Gratuït
DESCRIPTION:Ceptrotada: Mostra de Ceptrots i Bèsties de Foc 2025
URL:https://premiademar.cat/document.php?id=33409
END:VEVENT
END:VCALENDAR