BEGIN:VCALENDAR
VERSION:2.0
PRODID:-//Plone.org//NONSGML plone.app.event//EN
X-WR-TIMEZONE:Europe/Madrid
BEGIN:VEVENT
SUMMARY:Grup de Suport per famílies reestructurades i/o LGTBIQ+
DTSTART;TZID=Europe/Madrid;VALUE=DATE-TIME:20251117T173000
DTEND;TZID=Europe/Madrid;VALUE=DATE-TIME:20251117T183000
DTSTAMP;VALUE=DATE-TIME:20260424T113907Z
UID:6a3d42b0ff3b96b857749697f8dff9a1
CREATED;VALUE=DATE-TIME:20251117T000000Z
CATEGORIES:Activitats
LOCATION:Casa de la Dona - C/ Joan XXIII, 2 &#150; 8 Nau 1
ORGANIZER:SAI LGTBIQ+
COMMENT:Col·labora: Maria Godoy
Preu: Gratuït. Inscripció prèvia.
Durada: De 17.30 a 19.30h
DESCRIPTION:Un espai segur i acollidor per reconèixer-nos en la diversitat i construir xarxa i suport mutu.
URL:https://premiademar.cat/document.php?id=33514
END:VEVENT
END:VCALENDAR