BEGIN:VCALENDAR
VERSION:2.0
PRODID:-//Plone.org//NONSGML plone.app.event//EN
X-WR-TIMEZONE:Europe/Madrid
BEGIN:VEVENT
SUMMARY:Audicions de Tardor
DTSTART;TZID=Europe/Madrid;VALUE=DATE-TIME:20251118T000000
DTEND;TZID=Europe/Madrid;VALUE=DATE-TIME:20251118T010000
DTSTAMP;VALUE=DATE-TIME:20260424T114112Z
UID:372c4e0ffa8ff2870631eb4fab6ee762
CREATED;VALUE=DATE-TIME:20251118T000000Z
CATEGORIES:Música
LOCATION:Auditori de l'Escola Municipal de Música - Carretera Vilassar de Dalt, 52
COMMENT:Preu: Gratis
DESCRIPTION:a càrrec de l'alumnat solista de l'Escola
URL:https://premiademar.cat/document.php?id=33530
END:VEVENT
END:VCALENDAR