BEGIN:VCALENDAR
VERSION:2.0
PRODID:-//Plone.org//NONSGML plone.app.event//EN
X-WR-TIMEZONE:Europe/Madrid
BEGIN:VEVENT
SUMMARY:Jam Session
DTSTART;TZID=Europe/Madrid;VALUE=DATE-TIME:20251118T201500
DTEND;TZID=Europe/Madrid;VALUE=DATE-TIME:20251118T211500
DTSTAMP;VALUE=DATE-TIME:20260424T114040Z
UID:4ea108c1dcfd0af50689879827c7f319
CREATED;VALUE=DATE-TIME:20251118T000000Z
CATEGORIES:Música
LOCATION:Auditori de l'Escola Municipal de Música - Carretera Vilassar de Dalt, 52
COMMENT:Preu: Gratis
DESCRIPTION:a càrrec de l'alumnat jove i adult de l'Escola
URL:https://premiademar.cat/document.php?id=33531
END:VEVENT
END:VCALENDAR