BEGIN:VCALENDAR
VERSION:2.0
PRODID:-//Plone.org//NONSGML plone.app.event//EN
X-WR-TIMEZONE:Europe/Madrid
BEGIN:VEVENT
SUMMARY:Xocolatada de Santa Cecília
DTSTART;TZID=Europe/Madrid;VALUE=DATE-TIME:20251120T180000
DTEND;TZID=Europe/Madrid;VALUE=DATE-TIME:20251120T190000
DTSTAMP;VALUE=DATE-TIME:20260424T114729Z
UID:4ed78616960d6622beeb046804865ace
CREATED;VALUE=DATE-TIME:20251120T000000Z
CATEGORIES:Música
LOCATION:Escola Municipal de Música - Carretera de Vilassar de Dalt, 52-54
ORGANIZER:AFA Escola de Música
COMMENT:Preu: Gratis
DESCRIPTION:patrona dels músics
URL:https://premiademar.cat/document.php?id=33532
END:VEVENT
END:VCALENDAR