BEGIN:VCALENDAR
VERSION:2.0
PRODID:-//Plone.org//NONSGML plone.app.event//EN
X-WR-TIMEZONE:Europe/Madrid
BEGIN:VEVENT
SUMMARY:Doble Concert de Nadal
DTSTART;TZID=Europe/Madrid;VALUE=DATE-TIME:20251217T180000
DTEND;TZID=Europe/Madrid;VALUE=DATE-TIME:20251217T190000
DTSTAMP;VALUE=DATE-TIME:20260423T074832Z
UID:0cb9a701b821bc908288ee9c375ed792
CREATED;VALUE=DATE-TIME:20251217T000000Z
CATEGORIES:Música
LOCATION:Espai l'Amistat - Carrer de Sant Antoni, 60
COMMENT:Preu: Gratuït
DESCRIPTION:a les 18h i a les 19.30h
URL:https://premiademar.cat/document.php?id=33538
END:VEVENT
END:VCALENDAR