BEGIN:VCALENDAR
VERSION:2.0
PRODID:-//Plone.org//NONSGML plone.app.event//EN
X-WR-TIMEZONE:Europe/Madrid
BEGIN:VEVENT
SUMMARY:Encesa de llums de Nadal
DTSTART;TZID=Europe/Madrid;VALUE=DATE-TIME:20251128T180000
DTEND;TZID=Europe/Madrid;VALUE=DATE-TIME:20251128T190000
DTSTAMP;VALUE=DATE-TIME:20260424T081744Z
UID:062598ad93841925f28c9ff3e29747fc
CREATED;VALUE=DATE-TIME:20251128T000000Z
CATEGORIES:Activitats familiars,Cultura popular,Música,Teatre i altres espectacles
LOCATION:Plaça Països Catalans - Plaça Països Catalans
ORGANIZER:Ajuntament de Premià de Mar
COMMENT:Preu: Gratuït
Durada: De 18 a 20 hores
DESCRIPTION:Espectacle de llum i so.
URL:https://premiademar.cat/document.php?id=33652
END:VEVENT
END:VCALENDAR