BEGIN:VCALENDAR
VERSION:2.0
PRODID:-//Plone.org//NONSGML plone.app.event//EN
X-WR-TIMEZONE:Europe/Madrid
BEGIN:VEVENT
SUMMARY:Patxanga nadalenca x la Marató
DTSTART;TZID=Europe/Madrid;VALUE=DATE-TIME:20251214T110000
DTEND;TZID=Europe/Madrid;VALUE=DATE-TIME:20251214T120000
DTSTAMP;VALUE=DATE-TIME:20260425T051915Z
UID:c67e001b3809bbe8b315ea509158908d
CREATED;VALUE=DATE-TIME:20251214T000000Z
CATEGORIES:Esports,Activitats familiars,Activitats
LOCATION:Pavelló d'Esports - Camí del Mig, 62 08330 Premià de Mar
ORGANIZER:Club Hoquei Premià
COMMENT:Col·labora: Ajuntament de Premià de Mar
Preu: Gratuït
DESCRIPTION:La Marato de 3Cat: lluita contra el càncer
URL:https://premiademar.cat/document.php?id=33653
END:VEVENT
END:VCALENDAR