BEGIN:VCALENDAR
VERSION:2.0
PRODID:-//Plone.org//NONSGML plone.app.event//EN
X-WR-TIMEZONE:Europe/Madrid
BEGIN:VEVENT
SUMMARY:La màgia de resistir
DTSTART;TZID=Europe/Madrid;VALUE=DATE-TIME:20251122T180000
DTEND;TZID=Europe/Madrid;VALUE=DATE-TIME:20251122T190000
DTSTAMP;VALUE=DATE-TIME:20260421T155854Z
UID:d72f94ffcef4a6ecd8591e2878c3974b
CREATED;VALUE=DATE-TIME:20251122T000000Z
CATEGORIES:Activitats familiars
LOCATION:Patronat Teatre - Josep Paradeda, 26
COMMENT:Preu: 6&euro; SOCI / 8&euro; NO SOCI
URL:https://premiademar.cat/document.php?id=33659
END:VEVENT
END:VCALENDAR