BEGIN:VCALENDAR
VERSION:2.0
PRODID:-//Plone.org//NONSGML plone.app.event//EN
X-WR-TIMEZONE:Europe/Madrid
BEGIN:VEVENT
SUMMARY:L'Adelina i en Hop
DTSTART;TZID=Europe/Madrid;VALUE=DATE-TIME:20251130T120000
DTEND;TZID=Europe/Madrid;VALUE=DATE-TIME:20251130T130000
DTSTAMP;VALUE=DATE-TIME:20260421T161103Z
UID:6944134225c789cd65e9d69a094ae1b9
CREATED;VALUE=DATE-TIME:20251130T000000Z
CATEGORIES:Activitats familiars,Teatre i altres espectacles
LOCATION:Patronat Teatre - Josep Paradeda, 26
COMMENT:Preu: 6&euro; SOCI / 8&euro; NO SOCI
Durada: 50 min
DESCRIPTION:Petits al Teatre
URL:https://premiademar.cat/document.php?id=33660
END:VEVENT
END:VCALENDAR