BEGIN:VCALENDAR
VERSION:2.0
PRODID:-//Plone.org//NONSGML plone.app.event//EN
X-WR-TIMEZONE:Europe/Madrid
BEGIN:VEVENT
SUMMARY:Ernest & Celestine, Contes de primavera
DTSTART;TZID=Europe/Madrid;VALUE=DATE-TIME:20251123T120000
DTEND;TZID=Europe/Madrid;VALUE=DATE-TIME:20251123T130000
DTSTAMP;VALUE=DATE-TIME:20260421T161423Z
UID:a6c6819f3cc9d7852989b0c95469925c
CREATED;VALUE=DATE-TIME:20251123T000000Z
CATEGORIES:Activitats familiars,Cinema
LOCATION:Patronat Teatre - Josep Paradeda, 26
COMMENT:Preu: 3&euro; SOCI /5&euro; NO SOCI
Durada: 48 min
DESCRIPTION:Cinema Infantil en Català
URL:https://premiademar.cat/document.php?id=33661
END:VEVENT
END:VCALENDAR