BEGIN:VCALENDAR
VERSION:2.0
PRODID:-//Plone.org//NONSGML plone.app.event//EN
X-WR-TIMEZONE:Europe/Madrid
BEGIN:VEVENT
SUMMARY:I tu, què pintes?
DTSTART;TZID=Europe/Madrid;VALUE=DATE-TIME:20251123T103000
DTEND;TZID=Europe/Madrid;VALUE=DATE-TIME:20251123T113000
DTSTAMP;VALUE=DATE-TIME:20260421T160913Z
UID:ce0a3a71e6881ac0de46ce25177e6bc7
CREATED;VALUE=DATE-TIME:20251123T000000Z
CATEGORIES:Activitats familiars
LOCATION:Escola La Lió - Joan Prim, 30
COMMENT:Preu: Gratuït.
Durada: 10.30 a 14 h
DESCRIPTION:Activitat familiar dins del programa &OpenCurlyDoubleQuote;Som-hi! Caps de setmana per compartir&CloseCurlyDoubleQuote;
URL:https://premiademar.cat/document.php?id=33668
END:VEVENT
END:VCALENDAR