BEGIN:VCALENDAR
VERSION:2.0
PRODID:-//Plone.org//NONSGML plone.app.event//EN
X-WR-TIMEZONE:Europe/Madrid
BEGIN:VEVENT
SUMMARY:Relacions sanes: m'estima o em controla?
DTSTART;TZID=Europe/Madrid;VALUE=DATE-TIME:20251125T174500
DTEND;TZID=Europe/Madrid;VALUE=DATE-TIME:20251125T184500
DTSTAMP;VALUE=DATE-TIME:20260421T192213Z
UID:dc0dcc67459370a13da01269703cbe46
CREATED;VALUE=DATE-TIME:20251125T000000Z
CATEGORIES:Activitats
LOCATION:Can Salamó - Carrer de la Plaça, 65
ORGANIZER:Can Salamó
COMMENT:Preu: Gratuït.
Durada: 17.45 a 19.45 h
URL:https://premiademar.cat/document.php?id=33669
END:VEVENT
END:VCALENDAR