BEGIN:VCALENDAR
VERSION:2.0
PRODID:-//Plone.org//NONSGML plone.app.event//EN
X-WR-TIMEZONE:Europe/Madrid
BEGIN:VEVENT
SUMMARY:A l'altra banda de la pantalla: Prevenció de les violències masclistes digitals
DTSTART;TZID=Europe/Madrid;VALUE=DATE-TIME:20251127T180000
DTEND;TZID=Europe/Madrid;VALUE=DATE-TIME:20251127T190000
DTSTAMP;VALUE=DATE-TIME:20260424T151537Z
UID:430afbbae18d31d180d8d59f47a2cfce
CREATED;VALUE=DATE-TIME:20251127T000000Z
CATEGORIES:Activitats
LOCATION:Casa de la Dona - C/ Joan XXIII, 2 &ndash; 8 Nau 1
COMMENT:Preu: Gratuït.
URL:https://premiademar.cat/document.php?id=33671
END:VEVENT
END:VCALENDAR