BEGIN:VCALENDAR
VERSION:2.0
PRODID:-//Plone.org//NONSGML plone.app.event//EN
X-WR-TIMEZONE:Europe/Madrid
BEGIN:VEVENT
SUMMARY:Taller familiar: Els gladiadors ens visiten!
DTSTART;TZID=Europe/Madrid;VALUE=DATE-TIME:20251228T120000
DTEND;TZID=Europe/Madrid;VALUE=DATE-TIME:20251228T130000
DTSTAMP;VALUE=DATE-TIME:20260421T141251Z
UID:8eca5d7ef435681b6479939f9a7f466c
CREATED;VALUE=DATE-TIME:20251228T000000Z
CATEGORIES:Activitats familiars
LOCATION:Museu Romà (Espai Ferrerons) - Carrer de la Vil·la Romana, s/n
ORGANIZER:Museu Romà
COMMENT:Col·labora: Museu de l'Estampació
Preu: 4&euro;/persona
Durada: 60'
DESCRIPTION:Fem Nadal a Premià de Mar
URL:https://premiademar.cat/document.php?id=33692
END:VEVENT
END:VCALENDAR