BEGIN:VCALENDAR
VERSION:2.0
PRODID:-//Plone.org//NONSGML plone.app.event//EN
X-WR-TIMEZONE:Europe/Madrid
BEGIN:VEVENT
SUMMARY:Taller familiar: Magister Fabvlarvm ens visita! Diorama i conte sobre el Museu Romà
DTSTART;TZID=Europe/Madrid;VALUE=DATE-TIME:20260103T120000
DTEND;TZID=Europe/Madrid;VALUE=DATE-TIME:20260103T130000
DTSTAMP;VALUE=DATE-TIME:20260421T123213Z
UID:9ff31aa110694c73b0b2f03b052ebbfe
CREATED;VALUE=DATE-TIME:20260103T000000Z
CATEGORIES:Activitats familiars
LOCATION:Museu Romà (Espai Ferrerons) - Carrer de la Vil·la Romana, s/n
ORGANIZER:Museu Romà
COMMENT:Col·labora: Museu de l'Estampació
Preu: 4&euro;/persona
Durada: 60'
DESCRIPTION:Fem Nadal a Premià de Mar
URL:https://premiademar.cat/document.php?id=33693
END:VEVENT
END:VCALENDAR