BEGIN:VCALENDAR
VERSION:2.0
PRODID:-//Plone.org//NONSGML plone.app.event//EN
X-WR-TIMEZONE:Europe/Madrid
BEGIN:VEVENT
SUMMARY:Visita gratuïta al Museu Romà per ser primer diumenge de mes
DTSTART;TZID=Europe/Madrid;VALUE=DATE-TIME:20260104T100000
DTEND;TZID=Europe/Madrid;VALUE=DATE-TIME:20260104T110000
DTSTAMP;VALUE=DATE-TIME:20260425T154703Z
UID:72a12abc74eb9a01e6690907c3d5be14
CREATED;VALUE=DATE-TIME:20260104T000000Z
CATEGORIES:Museus i exposicions
LOCATION:Museu Romà - Carrer de la Vil·la Romana, s/n
ORGANIZER:Museu Romà
COMMENT:Col·labora: Museu de l'Estampació
Preu: Accés lliure per ser primer diumenge de mes
Durada: 75'
DESCRIPTION:Fem Nadal a Premià de Mar
URL:https://premiademar.cat/document.php?id=33694
END:VEVENT
END:VCALENDAR