BEGIN:VCALENDAR
VERSION:2.0
PRODID:-//Plone.org//NONSGML plone.app.event//EN
X-WR-TIMEZONE:Europe/Madrid
BEGIN:VEVENT
SUMMARY:«Democràcia, privacitat i IA»
DTSTART;TZID=Europe/Madrid;VALUE=DATE-TIME:20251202T180000
DTEND;TZID=Europe/Madrid;VALUE=DATE-TIME:20251202T190000
DTSTAMP;VALUE=DATE-TIME:20260423T233848Z
UID:e12c5c71bbeb8e07d920d0d7e549f2c6
CREATED;VALUE=DATE-TIME:20251202T000000Z
CATEGORIES:Lletres i diàlegs
LOCATION:Biblioteca Martí Rosselló i Lloveras - Carretera de Vilassar de Dalt, 100
COMMENT:Col·labora: Lluís Soler
Preu: Gratuït
DESCRIPTION:Àgora
URL:https://premiademar.cat/document.php?id=33695
END:VEVENT
END:VCALENDAR