BEGIN:VCALENDAR
VERSION:2.0
PRODID:-//Plone.org//NONSGML plone.app.event//EN
X-WR-TIMEZONE:Europe/Madrid
BEGIN:VEVENT
SUMMARY:Fira Animalada
DTSTART;TZID=Europe/Madrid;VALUE=DATE-TIME:20251123T100000
DTEND;TZID=Europe/Madrid;VALUE=DATE-TIME:20251123T110000
DTSTAMP;VALUE=DATE-TIME:20260421T155710Z
UID:dfe576c9155f88f7dce4b44b86265050
CREATED;VALUE=DATE-TIME:20251123T000000Z
CATEGORIES:Mostra,Activitats familiars,Activitats
LOCATION:Plaça Països Catalans - Plaça Països Catalans
ORGANIZER:Ajuntament Premià de Mar
COMMENT:Preu: Gratuït
Durada: De 10 a 14 h
URL:https://premiademar.cat/document.php?id=33709
END:VEVENT
END:VCALENDAR