BEGIN:VCALENDAR
VERSION:2.0
PRODID:-//Plone.org//NONSGML plone.app.event//EN
X-WR-TIMEZONE:Europe/Madrid
BEGIN:VEVENT
SUMMARY:Espai Memorial
DTSTART;TZID=Europe/Madrid;VALUE=DATE-TIME:20260111T120000
DTEND;TZID=Europe/Madrid;VALUE=DATE-TIME:20260111T130000
DTSTAMP;VALUE=DATE-TIME:20260422T153517Z
UID:c5eba4bfeab4cbd06cc17b0d77f1e749
CREATED;VALUE=DATE-TIME:20260111T000000Z
CATEGORIES:Mostra
LOCATION:Plaça Oriol Martorell
ORGANIZER:Ajuntament Premià de Mar
COMMENT:Preu: Gratuït
DESCRIPTION:Inauguració del nou espai memorial de Premià de Mar
URL:https://premiademar.cat/document.php?id=33713
END:VEVENT
END:VCALENDAR