BEGIN:VCALENDAR
VERSION:2.0
PRODID:-//Plone.org//NONSGML plone.app.event//EN
X-WR-TIMEZONE:Europe/Madrid
BEGIN:VEVENT
SUMMARY:Tertúlia amb Lluís Llach
DTSTART;TZID=Europe/Madrid;VALUE=DATE-TIME:20251125T183000
DTEND;TZID=Europe/Madrid;VALUE=DATE-TIME:20251125T193000
DTSTAMP;VALUE=DATE-TIME:20260421T161441Z
UID:8d174749f389ccc2e39bc5a9448a679c
CREATED;VALUE=DATE-TIME:20251125T000000Z
CATEGORIES:Conferència
LOCATION:Bar Restaurant l'Amistat - Carrer de Sant Antoni, 60
ORGANIZER:Assemblea Nacional de Catalunya de Premià de Mar
COMMENT:Col·labora: Assemblea Nacional de Catalunya Joves
Preu: Gratuït
Durada: De 18.30 a 20.30 h
DESCRIPTION:Xerrada sobre l'independentisme actual amb el president de l'Assemble Nacional de Catalunya, Lluís Llach
URL:https://premiademar.cat/document.php?id=33720
END:VEVENT
END:VCALENDAR