BEGIN:VCALENDAR
VERSION:2.0
PRODID:-//Plone.org//NONSGML plone.app.event//EN
X-WR-TIMEZONE:Europe/Madrid
BEGIN:VEVENT
SUMMARY:Campionats Solidaris de Tennis i Pàdel
DTSTART;TZID=Europe/Madrid;VALUE=DATE-TIME:20251214T100000
DTEND;TZID=Europe/Madrid;VALUE=DATE-TIME:20251214T110000
DTSTAMP;VALUE=DATE-TIME:20260425T055843Z
UID:2dd2fc049391f0e001998ef2f492e2f2
CREATED;VALUE=DATE-TIME:20251214T000000Z
CATEGORIES:Esports
LOCATION:Avinguda Torrent Castells 23
ORGANIZER:Club Tennis i Pàdel Premià de Mar
COMMENT:Preu: La voluntat
Durada: Matinal
DESCRIPTION:La Marató de 3Cat: Per la lluita contra el càncer
URL:https://premiademar.cat/document.php?id=33733
END:VEVENT
END:VCALENDAR