BEGIN:VCALENDAR
VERSION:2.0
PRODID:-//Plone.org//NONSGML plone.app.event//EN
X-WR-TIMEZONE:Europe/Madrid
BEGIN:VEVENT
SUMMARY:Inauguració oficial de l'Exposició de Pessebres i Diorames 2025
DTSTART;TZID=Europe/Madrid;VALUE=DATE-TIME:20251225T110000
DTEND;TZID=Europe/Madrid;VALUE=DATE-TIME:20251225T120000
DTSTAMP;VALUE=DATE-TIME:20260425T041405Z
UID:381eec6a09cf6ec5156395b299a31797
CREATED;VALUE=DATE-TIME:20251225T000000Z
CATEGORIES:Cultura popular,Activitats
LOCATION:Carrer de l'Aurora 20
ORGANIZER:Amics de l'Art Pessebrístic
COMMENT:Preu: Gratuït
DESCRIPTION:Fem Nadal a Premià de Mar
URL:https://premiademar.cat/document.php?id=33773
END:VEVENT
END:VCALENDAR