BEGIN:VCALENDAR
VERSION:2.0
PRODID:-//Plone.org//NONSGML plone.app.event//EN
X-WR-TIMEZONE:Europe/Madrid
BEGIN:VEVENT
SUMMARY:Dinar en companyia per Sant Esteve
DTSTART;TZID=Europe/Madrid;VALUE=DATE-TIME:20251226T123000
DTEND;TZID=Europe/Madrid;VALUE=DATE-TIME:20251226T133000
DTSTAMP;VALUE=DATE-TIME:20260426T022227Z
UID:821e447c247aec4461cdf980d3b0fd67
CREATED;VALUE=DATE-TIME:20251226T000000Z
CATEGORIES:Activitats
LOCATION:Casal d'Avis Can Manent - c/ de la Plaça, núm. 5
COMMENT:Preu: Gratuït
Durada: Inscripció prèvia al Casal d'Avis
DESCRIPTION:Fem Nadal a Premià de Mar
URL:https://premiademar.cat/document.php?id=33774
END:VEVENT
END:VCALENDAR