BEGIN:VCALENDAR
VERSION:2.0
PRODID:-//Plone.org//NONSGML plone.app.event//EN
X-WR-TIMEZONE:Europe/Madrid
BEGIN:VEVENT
SUMMARY:Parc de Nadal
DTSTART;TZID=Europe/Madrid;VALUE=DATE-TIME:20260104T000000
DTEND;TZID=Europe/Madrid;VALUE=DATE-TIME:20260104T010000
DTSTAMP;VALUE=DATE-TIME:20260421T161248Z
UID:a985751e7bfcfbc2a4d9bc01cd161e3a
CREATED;VALUE=DATE-TIME:20260103T000000Z
CATEGORIES:Esports,Activitats familiars,Activitats
LOCATION:Pavelló d'Esports - Camí del Mig, 62 08330 Premià de Mar
ORGANIZER:Ajuntament de Premià de Mar
COMMENT:Preu: Gratuït
DESCRIPTION:Fem Nadal a Premià de Mar
URL:https://premiademar.cat/document.php?id=33777
END:VEVENT
END:VCALENDAR