BEGIN:VCALENDAR
VERSION:2.0
PRODID:-//Plone.org//NONSGML plone.app.event//EN
X-WR-TIMEZONE:Europe/Madrid
BEGIN:VEVENT
SUMMARY:Estació de cartes dels Reis de l'Orient
DTSTART;TZID=Europe/Madrid;VALUE=DATE-TIME:20260104T173000
DTEND;TZID=Europe/Madrid;VALUE=DATE-TIME:20260104T183000
DTSTAMP;VALUE=DATE-TIME:20260421T160253Z
UID:95a2affbcd3753f5f944d9670218da29
CREATED;VALUE=DATE-TIME:20260103T000000Z
CATEGORIES:Activitats familiars,Teatre i altres espectacles,Activitats
LOCATION:Porxo de l'Escola La Lió - Joan Prim, 30
ORGANIZER:Ajuntament de Premià de Mar i la Caixa dels Trons
COMMENT:Col·labora: Amon-Ra i Simplement Diables
Preu: Gratuït
Durada: De 17.30 a 20h.
DESCRIPTION:Fem Nadal a Premià de Mar
URL:https://premiademar.cat/document.php?id=33778
END:VEVENT
END:VCALENDAR