BEGIN:VCALENDAR
VERSION:2.0
PRODID:-//Plone.org//NONSGML plone.app.event//EN
X-WR-TIMEZONE:Europe/Madrid
BEGIN:VEVENT
SUMMARY:Els Reis d'Orient visiten les residències
DTSTART;TZID=Europe/Madrid;VALUE=DATE-TIME:20260105T093000
DTEND;TZID=Europe/Madrid;VALUE=DATE-TIME:20260105T103000
DTSTAMP;VALUE=DATE-TIME:20260422T160045Z
UID:c2c6a9cf0c38daf12bd39113637b5aa7
CREATED;VALUE=DATE-TIME:20260105T000000Z
CATEGORIES:Activitats familiars,Teatre i altres espectacles,Activitats
LOCATION:Porxo de l'Escola La Lió
ORGANIZER:Ajuntament de Premià de Mar
COMMENT:Preu: Gratuït
DESCRIPTION:Fem Nadal a Premià de Mar
URL:https://premiademar.cat/document.php?id=33779
END:VEVENT
END:VCALENDAR