BEGIN:VCALENDAR
VERSION:2.0
PRODID:-//Plone.org//NONSGML plone.app.event//EN
X-WR-TIMEZONE:Europe/Madrid
BEGIN:VEVENT
SUMMARY:Arribada de S.M. els Reis d'Orient i la Bellamar al Port
DTSTART;TZID=Europe/Madrid;VALUE=DATE-TIME:20260105T163000
DTEND;TZID=Europe/Madrid;VALUE=DATE-TIME:20260105T173000
DTSTAMP;VALUE=DATE-TIME:20260424T222955Z
UID:676fd940c37cddc8223ca4b17e54f5c4
CREATED;VALUE=DATE-TIME:20260105T000000Z
CATEGORIES:Activitats familiars,Teatre i altres espectacles,Activitats
LOCATION:Port de Premià de Mar - Camí Ral, s/n
ORGANIZER:Ajuntament de Premià de Mar
COMMENT:Col·labora: Marina Port Premià, De Bòlit! i la Caixa dels Trons Arts Escèniques
Preu: Gratuït
DESCRIPTION:Fem Nadal a Premià de Mar
URL:https://premiademar.cat/document.php?id=33780
END:VEVENT
END:VCALENDAR