BEGIN:VCALENDAR
VERSION:2.0
PRODID:-//Plone.org//NONSGML plone.app.event//EN
X-WR-TIMEZONE:Europe/Madrid
BEGIN:VEVENT
SUMMARY:Pessebre vivent
DTSTART;TZID=Europe/Madrid;VALUE=DATE-TIME:20260105T190000
DTEND;TZID=Europe/Madrid;VALUE=DATE-TIME:20260105T200000
DTSTAMP;VALUE=DATE-TIME:20260422T173057Z
UID:ee8c4ad478a464d5ac65516c6ac33593
CREATED;VALUE=DATE-TIME:20260105T000000Z
CATEGORIES:Activitats familiars,Teatre i altres espectacles,Activitats
LOCATION:Plaça Països Catalans - Plaça Països Catalans
ORGANIZER:Escola de teatre Kampikipugui
COMMENT:Preu: Gratuït
DESCRIPTION:Fem Nadal a Premià de Mar
URL:https://premiademar.cat/document.php?id=33781
END:VEVENT
END:VCALENDAR