BEGIN:VCALENDAR
VERSION:2.0
PRODID:-//Plone.org//NONSGML plone.app.event//EN
X-WR-TIMEZONE:Europe/Madrid
BEGIN:VEVENT
SUMMARY:Gran Cavalcada de Reis
DTSTART;TZID=Europe/Madrid;VALUE=DATE-TIME:20260105T183000
DTEND;TZID=Europe/Madrid;VALUE=DATE-TIME:20260105T193000
DTSTAMP;VALUE=DATE-TIME:20260424T225305Z
UID:05913e1ab0ed3fbce70a41aa03b00c3f
CREATED;VALUE=DATE-TIME:20260105T000000Z
CATEGORIES:Activitats familiars,Teatre i altres espectacles,Activitats
LOCATION:Des del carrer de la Mercè (entre Joan Prim i  Elisenda de Montcada)
ORGANIZER:Ajuntament de Premià de Mar
COMMENT:Col·labora: De Bòlit!, Simplement Diables, La Caixa dels Trons, Patronat Teatre Premià, Amon-Ra, Agrupament La Traca, Esplai Parroquial de Premià, AVECA, Danzas Populares Arco Iris, Tempo Escola de Ball, Escola de Música i dansa Escola Teresa María i Oasis 4x4.
Preu: Gratuït
DESCRIPTION:Fem Nadal a Premià de Mar
URL:https://premiademar.cat/document.php?id=33782
END:VEVENT
END:VCALENDAR